BEGIN:VCALENDAR
VERSION:2.0
PRODID:-//Maria Lindenhof – Freizeit und Vergnügungspark in Dorsten - ECPv5.7.0//NONSGML v1.0//EN
CALSCALE:GREGORIAN
METHOD:PUBLISH
X-WR-CALNAME:Maria Lindenhof – Freizeit und Vergnügungspark in Dorsten
X-ORIGINAL-URL:https://buergerpark-maria-lindenhof.de
X-WR-CALDESC:Veranstaltungen für Maria Lindenhof – Freizeit und Vergnügungspark in Dorsten
BEGIN:VTIMEZONE
TZID:Europe/Berlin
BEGIN:DAYLIGHT
TZOFFSETFROM:+0100
TZOFFSETTO:+0200
TZNAME:CEST
DTSTART:20220327T010000
END:DAYLIGHT
BEGIN:STANDARD
TZOFFSETFROM:+0200
TZOFFSETTO:+0100
TZNAME:CET
DTSTART:20221030T010000
END:STANDARD
END:VTIMEZONE
BEGIN:VEVENT
DTSTART;VALUE=DATE:20220827
DTEND;VALUE=DATE:20220829
DTSTAMP:20260421T115907
CREATED:20220710T193934Z
LAST-MODIFIED:20220710T193934Z
UID:4329-1661558400-1661731199@buergerpark-maria-lindenhof.de
SUMMARY:Mittelaltertreiben im Bürgerpark
DESCRIPTION:
URL:https://buergerpark-maria-lindenhof.de/event/mittelaltertreiben-im-buergerpark/
ATTACH;FMTTYPE=image/jpeg:https://buergerpark-maria-lindenhof.de/wp-content/uploads/2022/07/Bauernhochzeit.jpg
END:VEVENT
END:VCALENDAR