BEGIN:VCALENDAR
VERSION:2.0
PRODID:-//Maria Lindenhof – Freizeit und Vergnügungspark in Dorsten - ECPv5.7.0//NONSGML v1.0//EN
CALSCALE:GREGORIAN
METHOD:PUBLISH
X-WR-CALNAME:Maria Lindenhof – Freizeit und Vergnügungspark in Dorsten
X-ORIGINAL-URL:https://buergerpark-maria-lindenhof.de
X-WR-CALDESC:Veranstaltungen für Maria Lindenhof – Freizeit und Vergnügungspark in Dorsten
BEGIN:VTIMEZONE
TZID:Europe/Berlin
BEGIN:DAYLIGHT
TZOFFSETFROM:+0100
TZOFFSETTO:+0200
TZNAME:CEST
DTSTART:20220327T010000
END:DAYLIGHT
BEGIN:STANDARD
TZOFFSETFROM:+0200
TZOFFSETTO:+0100
TZNAME:CET
DTSTART:20221030T010000
END:STANDARD
END:VTIMEZONE
BEGIN:VEVENT
DTSTART;TZID=Europe/Berlin:20220901T180000
DTEND;TZID=Europe/Berlin:20220901T220000
DTSTAMP:20260421T133502
CREATED:20220725T084434Z
LAST-MODIFIED:20220725T084434Z
UID:4343-1662055200-1662069600@buergerpark-maria-lindenhof.de
SUMMARY:Konzert: Discovery:Zone (Support: Liza Dries)
DESCRIPTION:Zwei Solokünstlerinnen teilen sich an diesem Abend unsere Stage und präsentieren luziden und abtrünnigen Pop\, der zwischen süßer Träumerei und futuristischer Soundästhetik verweilt. JJ Weihl aka Discovery Zone ist in New York geboren und lebt mittlerweile in Berlin. Ihr Sound wirkt manchmal wie ein fröhlich-überzeichneter Comicstrip\, mal wie ein Blick durch ein verregnetes Fenster. Die zwingende Verbindung von Klang und visueller Kunst steht stets im Fokus. Eine klangliche Erzählung der digitalen Technik mitten in unserer Lebenswelt\, zwischen Dance-Pop und ergreifenden Balladen.  \nDie Niederländerin Liza Dries wird als Support auftreten und mit ihrer Band Vintage Dream-Pop mit niederländischen und englischen Texten präsentieren. 
URL:https://buergerpark-maria-lindenhof.de/event/konzert-discoveryzone-support-liza-dries/
LOCATION:Oude Marie
CATEGORIES:Konzert
ATTACH;FMTTYPE=image/jpeg:https://buergerpark-maria-lindenhof.de/wp-content/uploads/2022/07/290927640_3300927563460013_9073559144400197971_n.jpg
END:VEVENT
END:VCALENDAR