BEGIN:VCALENDAR
VERSION:2.0
PRODID:-//Maria Lindenhof – Freizeit und Vergnügungspark in Dorsten - ECPv5.7.0//NONSGML v1.0//EN
CALSCALE:GREGORIAN
METHOD:PUBLISH
X-WR-CALNAME:Maria Lindenhof – Freizeit und Vergnügungspark in Dorsten
X-ORIGINAL-URL:https://buergerpark-maria-lindenhof.de
X-WR-CALDESC:Veranstaltungen für Maria Lindenhof – Freizeit und Vergnügungspark in Dorsten
BEGIN:VTIMEZONE
TZID:Europe/Berlin
BEGIN:DAYLIGHT
TZOFFSETFROM:+0100
TZOFFSETTO:+0200
TZNAME:CEST
DTSTART:20200329T010000
END:DAYLIGHT
BEGIN:STANDARD
TZOFFSETFROM:+0200
TZOFFSETTO:+0100
TZNAME:CET
DTSTART:20201025T010000
END:STANDARD
END:VTIMEZONE
BEGIN:VEVENT
DTSTART;TZID=Europe/Berlin:20200913T180000
DTEND;TZID=Europe/Berlin:20200913T200000
DTSTAMP:20260422T105551
CREATED:20200608T204730Z
LAST-MODIFIED:20200610T140145Z
UID:217-1600020000-1600027200@buergerpark-maria-lindenhof.de
SUMMARY:2. YOGA-TAG IM PARK
DESCRIPTION:Der Yoga Tag\, ein Tag für ALLE Bürger und Bürgerinnen in Dorsten und Umgebung mit und ohne Handicap. Gemeinsam mit der Familie und mit Freunden sich frei bewegen\, ohne Ängste und Zwänge auch Neues erleben und neugierig sein dürfen\, das sind die Kriterien für ein entspanntes und freudiges Zusammensein an diesem Nachmittag.
URL:https://buergerpark-maria-lindenhof.de/event/2-yoga-tag-im-park/
LOCATION:Bürgerpark Maria Lindenhof\, Im Werth 57\, Dorsten\, NRW\, 46282\, Deutschland
ATTACH;FMTTYPE=image/jpeg:https://buergerpark-maria-lindenhof.de/wp-content/uploads/2020/06/bml-veranstaltung-2.-yoga-tag-im-park-2020.jpg
END:VEVENT
END:VCALENDAR